BEGIN:VCALENDAR
VERSION:2.0
PRODID:-//Tourism Windsor Essex Pelee Island - ECPv6.15.20//NONSGML v1.0//EN
CALSCALE:GREGORIAN
METHOD:PUBLISH
X-WR-CALNAME:Tourism Windsor Essex Pelee Island
X-ORIGINAL-URL:https://www.visitwindsoressex.com
X-WR-CALDESC:Events for Tourism Windsor Essex Pelee Island
REFRESH-INTERVAL;VALUE=DURATION:PT1H
X-Robots-Tag:noindex
X-PUBLISHED-TTL:PT1H
BEGIN:VTIMEZONE
TZID:America/Detroit
BEGIN:DAYLIGHT
TZOFFSETFROM:-0500
TZOFFSETTO:-0400
TZNAME:EDT
DTSTART:20250309T070000
END:DAYLIGHT
BEGIN:STANDARD
TZOFFSETFROM:-0400
TZOFFSETTO:-0500
TZNAME:EST
DTSTART:20251102T060000
END:STANDARD
BEGIN:DAYLIGHT
TZOFFSETFROM:-0500
TZOFFSETTO:-0400
TZNAME:EDT
DTSTART:20260308T070000
END:DAYLIGHT
BEGIN:STANDARD
TZOFFSETFROM:-0400
TZOFFSETTO:-0500
TZNAME:EST
DTSTART:20261101T060000
END:STANDARD
BEGIN:DAYLIGHT
TZOFFSETFROM:-0500
TZOFFSETTO:-0400
TZNAME:EDT
DTSTART:20270314T070000
END:DAYLIGHT
BEGIN:STANDARD
TZOFFSETFROM:-0400
TZOFFSETTO:-0500
TZNAME:EST
DTSTART:20271107T060000
END:STANDARD
END:VTIMEZONE
BEGIN:VEVENT
DTSTART;VALUE=DATE:20260606
DTEND;VALUE=DATE:20260608
DTSTAMP:20260420T092824
CREATED:20260123T165735Z
LAST-MODIFIED:20260312T174147Z
UID:10174824-1780704000-1780876799@www.visitwindsoressex.com
SUMMARY:Art in the Park
DESCRIPTION:Art in the Park is held the first full weekend in June of each year and is the signature event that launches Windsor’s festival season. This event is one of Ontario’s largest outdoor arts and crafts shows\, with exhibitors from all over Ontario and Quebec. The exhibitors display and retail their wares in booths set up around the 15.5 acres of gated grounds surrounding the beautiful and historic Willistead Manor in Walkerville (Windsor)\, Ontario. \nThis will be the 47th year that the Rotary Club of Windsor (1918)\, acting as the agent for the Rotary Club of Windsor Foundation Fund\, will be presenting Art in the Park\, here in Windsor. \nWe will have something for everyone: \n\nOur extremely talented Artisans bring their creations for your shopping pleasure.\nThe Food Court will feature high-end local restaurants with delicious menu choices!\nLocal wine and beer options so you can relax and enjoy the talented musicians from our area.\nKid Zone is back! Loads of fun!\nFree shuttle services will be available at Hiram Walker parking lot and 1591 Kildare parking lot.\n\nAll proceeds raised by this event go toward supporting the restoration of Willistead Manor and the charitable projects of the Rotary Club of Windsor (1918). \nPlease note: No dogs/pets allowed in the park during the event. \nWe will be accepting Cash & Electronic tickets at every gate. \nTicket Prices:\n$7 in advance and $8 at the door\nChildren Under 12: Free\nFor prepaid tickets\, please be ready to show your receipt at the gate. \nEvent Hours:\nSaturday\, June 6th\, 10am to 7pm\nSunday\, June 7th\, 10am to 5pm
URL:https://www.visitwindsoressex.com/event/art-in-the-park/
LOCATION:Willistead Park\, 1899 Niagara\, Windsor\, ON\, Canada
CATEGORIES:Annual Festival,Arts & Culture
ATTACH;FMTTYPE=image/jpeg:https://www.visitwindsoressex.com/wp-content/uploads/2026/01/Art-in-the-Park.jpg
ORGANIZER;CN="Rotary Club of Windsor":MAILTO:info@rotary1918.com
GEO:42.3191874;-83.0110309
X-APPLE-STRUCTURED-LOCATION;VALUE=URI;X-ADDRESS=Willistead Park 1899 Niagara Windsor ON Canada;X-APPLE-RADIUS=500;X-TITLE=1899 Niagara:geo:-83.0110309,42.3191874
END:VEVENT
END:VCALENDAR