BEGIN:VCALENDAR
VERSION:2.0
PRODID:-//Tourism Windsor Essex Pelee Island - ECPv6.15.20//NONSGML v1.0//EN
CALSCALE:GREGORIAN
METHOD:PUBLISH
X-WR-CALNAME:Tourism Windsor Essex Pelee Island
X-ORIGINAL-URL:https://www.visitwindsoressex.com
X-WR-CALDESC:Events for Tourism Windsor Essex Pelee Island
REFRESH-INTERVAL;VALUE=DURATION:PT1H
X-Robots-Tag:noindex
X-PUBLISHED-TTL:PT1H
BEGIN:VTIMEZONE
TZID:America/Detroit
BEGIN:DAYLIGHT
TZOFFSETFROM:-0500
TZOFFSETTO:-0400
TZNAME:EDT
DTSTART:20250309T070000
END:DAYLIGHT
BEGIN:STANDARD
TZOFFSETFROM:-0400
TZOFFSETTO:-0500
TZNAME:EST
DTSTART:20251102T060000
END:STANDARD
BEGIN:DAYLIGHT
TZOFFSETFROM:-0500
TZOFFSETTO:-0400
TZNAME:EDT
DTSTART:20260308T070000
END:DAYLIGHT
BEGIN:STANDARD
TZOFFSETFROM:-0400
TZOFFSETTO:-0500
TZNAME:EST
DTSTART:20261101T060000
END:STANDARD
BEGIN:DAYLIGHT
TZOFFSETFROM:-0500
TZOFFSETTO:-0400
TZNAME:EDT
DTSTART:20270314T070000
END:DAYLIGHT
BEGIN:STANDARD
TZOFFSETFROM:-0400
TZOFFSETTO:-0500
TZNAME:EST
DTSTART:20271107T060000
END:STANDARD
END:VTIMEZONE
BEGIN:VEVENT
DTSTART;TZID=America/Detroit:20260810T000000
DTEND;TZID=America/Detroit:20260814T000000
DTSTAMP:20260424T024704
CREATED:20260217T144131Z
LAST-MODIFIED:20260217T144142Z
UID:10175499-1786320000-1786665600@www.visitwindsoressex.com
SUMMARY:The Great Waterfront Trail Adventure
DESCRIPTION:Join us from Monday \, August 10th to Friday\, August 14th\, for the 2026 Great Waterfront Trail Adventure cycle tour and awareness ride. \n5 Days |425km | Includes optional trip to Pelee Island \nThat’s right — Windsor\, Essex\, and Pelee Island mark Canada’s southernmost point. Here you’ll find award-winning wineries\, a fabulous culinary scene\, sandy beaches\, acres of rich farmland\, and fascinating history — from the Underground Railroad to the War of 1812 to Prohibition. Explore tallgrass prairie and oak savannah landscapes\, world-renowned birding areas\, and of course\, incredible cycling. Flat terrain. \nThe 2026 Great Waterfront Trail Adventure features five days of immersive riding with only two overnight locations— giving you even more time to experience the region’s warm hospitality\, unique attractions\, and scenic trails. \nJoin us for 57 – 97 km (maximum) of daily riding combined with lots of fun off-the-bike activities and plenty of time to explore. Enjoy the opportunity to reconnect with old friends and meet new friends. \nOvernight stays in the communities of Windsor (3 nights) and Leamington (2 nights) Camping available in Point Pelee National Park (including Otentiks!) for the two Leamington nights. See accommodations for more information on how to book residence rooms in Windsor and hotels in Leamington or Otentiks in Point Pelee National Park. \nWhat Makes This Ride Special\n-A welcoming\, supportive community and lasting friendships\n-Five days of immersive riding\n-Only two overnight locations — giving you more time to enjoy the region’s warm hospitality\, unique attractions\, and scenic trails\n-Camping in Point Pelee National Park\n-Reception in Sandwich Town\n-Two group dinners that bring everyone together\n-An evening in Point Pelee National Park with a guided tour of the Tip Tower\n-Outstanding support from our dedicated volunteer team
URL:https://www.visitwindsoressex.com/event/the-great-waterfront-trail-adventure/
LOCATION:Various Locations
CATEGORIES:Outdoors
ATTACH;FMTTYPE=image/jpeg:https://www.visitwindsoressex.com/wp-content/uploads/2018/04/County-Bike.jpg
END:VEVENT
BEGIN:VEVENT
DTSTART;TZID=America/Detroit:20260812T000000
DTEND;TZID=America/Detroit:20260812T000000
DTSTAMP:20260424T024704
CREATED:20260420T154452Z
LAST-MODIFIED:20260420T154452Z
UID:10176272-1786492800-1786492800@www.visitwindsoressex.com
SUMMARY:Perseid Meteor Shower with RASC
DESCRIPTION:Have you ever observed a ‘shooting star’? The Perseid Meteor Shower peaks on the night of Wednesday\, August 12. Come join us and members of the Windsor Centre of the Royal Astronomical Society of Canada on Wednesday\, August 12 for a day and night of special events in the park to celebrate our annual Perseid Meteor Shower Watch Party! Bring a blanket or folding chair and watch for the streaks of light as these space rocks rain down on the Earth’s atmosphere. As in the past\, volunteers from the astronomy club will have telescopes out on the West Beach after sunset to share views of many celestial objects with visitors! \nPlease note all outdoor observing activities are weather dependent. Telescopes can’t see through clouds! We hope you can join us for this special day of events! \nThe park will stay open all night August 12 to August 13 (open at 6 am August 12\, close at 10 pm August 13).
URL:https://www.visitwindsoressex.com/event/perseid-meteor-shower-with-rasc/
LOCATION:Point Pelee National Park\, 1118 Point Pelee Drive\, Leamington\, ON\, N8H 3V4\, Canada
CATEGORIES:Outdoors
ATTACH;FMTTYPE=image/jpeg:https://www.visitwindsoressex.com/wp-content/uploads/2026/04/Meteor-Shower-PPNP.jpg
END:VEVENT
BEGIN:VEVENT
DTSTART;VALUE=DATE:20260812
DTEND;VALUE=DATE:20260814
DTSTAMP:20260424T024704
CREATED:20260119T142655Z
LAST-MODIFIED:20260210T194754Z
UID:10174739-1786492800-1786665599@www.visitwindsoressex.com
SUMMARY:Dark Sky Nights - Point Pelee National Park
DESCRIPTION:Explore the park after dark and experience the dark skies of Point Pelee National Park. You will have the opportunity to stay late and experience the park at night. Visitors can pick up a seasonal star chart at the front gate upon arrival. The park is open until midnight\, unless otherwise stated. \nDark Sky Viewing Tips: \n\nCheck the weather before heading out.\nTake along a star chart or download a star gazing app\, and bring a pair of binoculars – or a telescope.\nUse red cellophane over your flashlight. Red light is less obtrusive than traditional white light\, and helps to retain your night vision.\nWest Beach and the Visitor Centre parking lots are the best car-accessible stargazing locations.\n\n 
URL:https://www.visitwindsoressex.com/event/dark-sky-nights-point-pelee-national-park-2/
LOCATION:Point Pelee National Park\, 1118 Point Pelee Drive\, Leamington\, ON\, N8H 3V4\, Canada
CATEGORIES:Family Fun,Outdoors
ATTACH;FMTTYPE=image/jpeg:https://www.visitwindsoressex.com/wp-content/uploads/2019/02/Events2019.Dark-Sky-Night-with-Astronomical-Society.jpg
END:VEVENT
BEGIN:VEVENT
DTSTART;VALUE=DATE:20260912
DTEND;VALUE=DATE:20260913
DTSTAMP:20260424T024704
CREATED:20260210T194331Z
LAST-MODIFIED:20260211T154337Z
UID:10175419-1789171200-1789171200@www.visitwindsoressex.com
SUMMARY:Dark Sky Nights - Point Pelee National Park
DESCRIPTION:Explore the park after dark and experience the dark skies of Point Pelee National Park. You will have the opportunity to stay late and experience the park at night. Visitors can pick up a seasonal star chart at the front gate upon arrival. The park is open until midnight\, unless otherwise stated. \nDark Sky Viewing Tips: \n-Check the weather before heading out.\n-Take along a star chart or download a star gazing app\, and bring a pair of binoculars – or a telescope.\n-Use red cellophane over your flashlight. Red light is less obtrusive than traditional white light\, and helps to retain your night vision.\n-West Beach and the Visitor Centre parking lots are the best car-accessible stargazing locations.
URL:https://www.visitwindsoressex.com/event/dark-sky-nights-point-pelee-national-park-3/2026-09-12/
LOCATION:Point Pelee National Park\, 1118 Point Pelee Drive\, Leamington\, ON\, N8H 3V4\, Canada
CATEGORIES:Family Fun,Outdoors
ATTACH;FMTTYPE=image/jpeg:https://www.visitwindsoressex.com/wp-content/uploads/2019/02/Events2019.Dark-Sky-Night-with-Astronomical-Society.jpg
END:VEVENT
BEGIN:VEVENT
DTSTART;VALUE=DATE:20260913
DTEND;VALUE=DATE:20260914
DTSTAMP:20260424T024704
CREATED:20260123T170141Z
LAST-MODIFIED:20260123T170141Z
UID:10174827-1789257600-1789343999@www.visitwindsoressex.com
SUMMARY:Windsor Waterfront Half Marathon
DESCRIPTION:Join us for the Windsor Waterfront Half Marathon & 5K\, a premier event designed to showcase Windsor as a top destination for big city races. This out-and-back\, timed\, and certified course offers an energy-filled\, runner’s dream experience. \nRoute Highlights: \n-Run along beautiful Riverside Drive\, fully closed off for the event.\n-Pass by Windsor’s pristine waterfront parks.\n-Enjoy views of the famous Hiram Walker distillery\, home to Canadian Club Whisky\, JP Wiser’s\, and Polar Ice Vodka.\n-Experience high-energy turn-around points filled with spectators\, music\, and cheer. \nPost-Race Celebration \nReceive a custom 4” medal as you cross the finish line.\nEnjoy food and refreshments at Festival Plaza while awaiting the awards ceremony. Food trucks will be also be onsite! \nFor registration\, hotel information\, training program details\, and additional course information\, please visit the event website.
URL:https://www.visitwindsoressex.com/event/windsor-waterfront-half-marathon/
LOCATION:Windsor Waterfront
CATEGORIES:Outdoors,Sport
ATTACH;FMTTYPE=image/jpeg:https://www.visitwindsoressex.com/wp-content/uploads/2026/01/IMG_0319.jpeg
END:VEVENT
BEGIN:VEVENT
DTSTART;TZID=America/Detroit:20260919T090000
DTEND;TZID=America/Detroit:20260920T150000
DTSTAMP:20260424T024704
CREATED:20260417T124441Z
LAST-MODIFIED:20260417T124441Z
UID:10176239-1789808400-1789916400@www.visitwindsoressex.com
SUMMARY:Festival of Hawks
DESCRIPTION:The Festival of Hawks returns to Holiday Beach Conservation Area on September 19 and 20 2026. Join experts from the Holiday Beach Migration Observatory for this amazing natural spectacle. Watch thousands of birds of prey flying overhead. Take in free programs hosted by local experts and see live hawks up close. A great family event for experts and amateurs alike.
URL:https://www.visitwindsoressex.com/event/festival-of-hawks/
LOCATION:Holiday Beach Conservation Area\, 6952 County Rd. 50 W\, Amherstburg\, Ontario\, Canada
CATEGORIES:Outdoors
ATTACH;FMTTYPE=image/jpeg:https://www.visitwindsoressex.com/wp-content/uploads/2023/03/Festival-of-Hawks.jpg
GEO:42.0422734;-83.0345232
X-APPLE-STRUCTURED-LOCATION;VALUE=URI;X-ADDRESS=Holiday Beach Conservation Area 6952 County Rd. 50 W Amherstburg Ontario Canada;X-APPLE-RADIUS=500;X-TITLE=6952 County Rd. 50 W:geo:-83.0345232,42.0422734
END:VEVENT
BEGIN:VEVENT
DTSTART;VALUE=DATE:20261010
DTEND;VALUE=DATE:20261011
DTSTAMP:20260424T024704
CREATED:20260210T194331Z
LAST-MODIFIED:20260211T154337Z
UID:10175420-1791590400-1791590400@www.visitwindsoressex.com
SUMMARY:Dark Sky Nights - Point Pelee National Park
DESCRIPTION:Explore the park after dark and experience the dark skies of Point Pelee National Park. You will have the opportunity to stay late and experience the park at night. Visitors can pick up a seasonal star chart at the front gate upon arrival. The park is open until midnight\, unless otherwise stated. \nDark Sky Viewing Tips: \n-Check the weather before heading out.\n-Take along a star chart or download a star gazing app\, and bring a pair of binoculars – or a telescope.\n-Use red cellophane over your flashlight. Red light is less obtrusive than traditional white light\, and helps to retain your night vision.\n-West Beach and the Visitor Centre parking lots are the best car-accessible stargazing locations.
URL:https://www.visitwindsoressex.com/event/dark-sky-nights-point-pelee-national-park-3/2026-10-10/
LOCATION:Point Pelee National Park\, 1118 Point Pelee Drive\, Leamington\, ON\, N8H 3V4\, Canada
CATEGORIES:Family Fun,Outdoors
ATTACH;FMTTYPE=image/jpeg:https://www.visitwindsoressex.com/wp-content/uploads/2019/02/Events2019.Dark-Sky-Night-with-Astronomical-Society.jpg
END:VEVENT
BEGIN:VEVENT
DTSTART;TZID=America/Detroit:20261015T000000
DTEND;TZID=America/Detroit:20261018T000000
DTSTAMP:20260424T024704
CREATED:20260202T150029Z
LAST-MODIFIED:20260319T132949Z
UID:10175262-1792022400-1792281600@www.visitwindsoressex.com
SUMMARY:Kingsville Migration Festival
DESCRIPTION:Kingsville welcomes the community to a celebration of migration\, heritage\, nature conservation and Jack Miner. \nCompete in the Great Migration Paint Out and win prizes\, watch the Migration Festival Parade\, buy local art\, goods\, and craft drinks\, bike around Town in free bike tours\, see hunting birds up close\, and so much more.
URL:https://www.visitwindsoressex.com/event/kingsville-migration-festival/
LOCATION:Town of Kingsville\, KIngsville\, Ontario\, N9Y 2Y9\, Canada
CATEGORIES:Annual Festival,Outdoors
ATTACH;FMTTYPE=image/jpeg:https://www.visitwindsoressex.com/wp-content/uploads/2026/02/488894089_1068552288648282_409342182001023374_n.jpg
END:VEVENT
BEGIN:VEVENT
DTSTART;VALUE=DATE:20261016
DTEND;VALUE=DATE:20261019
DTSTAMP:20260424T024704
CREATED:20260212T191330Z
LAST-MODIFIED:20260224T212439Z
UID:10175437-1792108800-1792367999@www.visitwindsoressex.com
SUMMARY:Detroit Free Press Marathon
DESCRIPTION:The Detroit Free Press Marathon features a international course that crosses the Ambassador Bridge and the Detroit-Windsor Tunnel\, giving participants the rare experience of running across two countries within a single event! \nThe Detroit Free Press Marathon is more then just a marathon\, the weekend indulges into plenty of activities and activations such as: \n\nInternational Half Marathon\nMotor City Half Marathon\n1-Mile Fun Run\nMarathon Relay\nChildren’s Races\nHealth and Fitness Expo\n\nAlong the Marathon path in many key points on the race in Windsor\, the Line the Drive campaign will be present featuring local organizations and buisnesses to support cheering stations\, fan zones and much more!
URL:https://www.visitwindsoressex.com/event/detroit-free-press-marathon/
LOCATION:ON
CATEGORIES:Annual Festival,Outdoors,Sport
ATTACH;FMTTYPE=image/jpeg:https://www.visitwindsoressex.com/wp-content/uploads/2026/02/windsordetroittunnel-Instagram-3621-ig-17925135839968377.jpg
END:VEVENT
BEGIN:VEVENT
DTSTART;VALUE=DATE:20261212
DTEND;VALUE=DATE:20261213
DTSTAMP:20260424T024704
CREATED:20260210T194331Z
LAST-MODIFIED:20260211T154337Z
UID:10175421-1797033600-1797033600@www.visitwindsoressex.com
SUMMARY:Dark Sky Nights - Point Pelee National Park
DESCRIPTION:Explore the park after dark and experience the dark skies of Point Pelee National Park. You will have the opportunity to stay late and experience the park at night. Visitors can pick up a seasonal star chart at the front gate upon arrival. The park is open until midnight\, unless otherwise stated. \nDark Sky Viewing Tips: \n-Check the weather before heading out.\n-Take along a star chart or download a star gazing app\, and bring a pair of binoculars – or a telescope.\n-Use red cellophane over your flashlight. Red light is less obtrusive than traditional white light\, and helps to retain your night vision.\n-West Beach and the Visitor Centre parking lots are the best car-accessible stargazing locations.
URL:https://www.visitwindsoressex.com/event/dark-sky-nights-point-pelee-national-park-3/2026-12-12/
LOCATION:Point Pelee National Park\, 1118 Point Pelee Drive\, Leamington\, ON\, N8H 3V4\, Canada
CATEGORIES:Family Fun,Outdoors
ATTACH;FMTTYPE=image/jpeg:https://www.visitwindsoressex.com/wp-content/uploads/2019/02/Events2019.Dark-Sky-Night-with-Astronomical-Society.jpg
END:VEVENT
END:VCALENDAR