BEGIN:VCALENDAR
VERSION:2.0
PRODID:-//Tourism Windsor Essex Pelee Island - ECPv6.15.20//NONSGML v1.0//EN
CALSCALE:GREGORIAN
METHOD:PUBLISH
X-ORIGINAL-URL:https://www.visitwindsoressex.com
X-WR-CALDESC:Events for Tourism Windsor Essex Pelee Island
REFRESH-INTERVAL;VALUE=DURATION:PT1H
X-Robots-Tag:noindex
X-PUBLISHED-TTL:PT1H
BEGIN:VTIMEZONE
TZID:America/Detroit
BEGIN:DAYLIGHT
TZOFFSETFROM:-0500
TZOFFSETTO:-0400
TZNAME:EDT
DTSTART:20250309T070000
END:DAYLIGHT
BEGIN:STANDARD
TZOFFSETFROM:-0400
TZOFFSETTO:-0500
TZNAME:EST
DTSTART:20251102T060000
END:STANDARD
BEGIN:DAYLIGHT
TZOFFSETFROM:-0500
TZOFFSETTO:-0400
TZNAME:EDT
DTSTART:20260308T070000
END:DAYLIGHT
BEGIN:STANDARD
TZOFFSETFROM:-0400
TZOFFSETTO:-0500
TZNAME:EST
DTSTART:20261101T060000
END:STANDARD
BEGIN:DAYLIGHT
TZOFFSETFROM:-0500
TZOFFSETTO:-0400
TZNAME:EDT
DTSTART:20270314T070000
END:DAYLIGHT
BEGIN:STANDARD
TZOFFSETFROM:-0400
TZOFFSETTO:-0500
TZNAME:EST
DTSTART:20271107T060000
END:STANDARD
END:VTIMEZONE
BEGIN:VEVENT
DTSTART;TZID=America/Detroit:20260420T170000
DTEND;TZID=America/Detroit:20260420T220000
DTSTAMP:20260424T070735
CREATED:20260225T155828Z
LAST-MODIFIED:20260225T155852Z
UID:10175819-1776704400-1776722400@www.visitwindsoressex.com
SUMMARY:Card Board Game Night
DESCRIPTION:Only at The Shadowbox Theatre on the 3rd Monday of every month: Card Board Game Night! Sally forth for a solo adventure or bring a group of friends. Either way you’ll make new friends who share your love of boardgames and card games! All are welcome — even kids (with adult supervision). Just $5 at the door. \nNot only are there myriad games for you to choose from — including fast-paced\, strategy\, trivia\, tile\, deck building\, party games — you can also bring your own games and find others who want to play them. Fun is guaranteed! \nHOW MUCH: $5 per person at the door (cash\, debit\, and credit accepted) \nTo learn more\, make requests for future game nights\, or even get a complete list of available games\, contact Ian Reuten at ianreuten@hotmail.com. You can also learn more at https://www.postproductionswindsor.ca/card-board-game-night.html
URL:https://www.visitwindsoressex.com/event/card-board-game-night-2/2026-04-20/
LOCATION:The Shadowbox Theatre\, 1501 Howard Ave\, Windsor\, ON\, N8X 3T5\, Canada
CATEGORIES:Entertainment,Family Fun
ATTACH;FMTTYPE=image/jpeg:https://www.visitwindsoressex.com/wp-content/uploads/2026/02/615432334_1335348755061547_4981804572274491527_n-1.jpg
END:VEVENT
BEGIN:VEVENT
DTSTART;TZID=America/Detroit:20260418T120000
DTEND;TZID=America/Detroit:20260418T160000
DTSTAMP:20260424T070735
CREATED:20260123T164703Z
LAST-MODIFIED:20260410T172312Z
UID:10174800-1776513600-1776528000@www.visitwindsoressex.com
SUMMARY:LaSalle Spring Fling
DESCRIPTION:This fun filled community event is the perfect way to welcome the season with family and friends. The Spring Fling features exiting activities for all ages\, including live music\, food vendors\, buskers\, games\, and entertainment that celebrates the spirit of Spring! Join us for the excitement and stay for the entertainment! \nWe can’t wait to see you! \n 
URL:https://www.visitwindsoressex.com/event/lasalle-spring-fling/
LOCATION:Event Centre at LaSalle Landing\, 970 Front Rd\, LaSalle\, Ontario\, N9J 1Z9\, Canada
CATEGORIES:Artisan,Entertainment,Family Fun
ATTACH;FMTTYPE=image/jpeg:https://www.visitwindsoressex.com/wp-content/uploads/2026/01/laSalle-Spring-Fling.jpg
END:VEVENT
BEGIN:VEVENT
DTSTART;VALUE=DATE:20260418
DTEND;VALUE=DATE:20260419
DTSTAMP:20260424T070735
CREATED:20260210T194331Z
LAST-MODIFIED:20260211T154337Z
UID:10175415-1776470400-1776470400@www.visitwindsoressex.com
SUMMARY:Dark Sky Nights - Point Pelee National Park
DESCRIPTION:Explore the park after dark and experience the dark skies of Point Pelee National Park. You will have the opportunity to stay late and experience the park at night. Visitors can pick up a seasonal star chart at the front gate upon arrival. The park is open until midnight\, unless otherwise stated. \nDark Sky Viewing Tips: \n-Check the weather before heading out.\n-Take along a star chart or download a star gazing app\, and bring a pair of binoculars – or a telescope.\n-Use red cellophane over your flashlight. Red light is less obtrusive than traditional white light\, and helps to retain your night vision.\n-West Beach and the Visitor Centre parking lots are the best car-accessible stargazing locations.
URL:https://www.visitwindsoressex.com/event/dark-sky-nights-point-pelee-national-park-3/2026-04-18/
LOCATION:Point Pelee National Park\, 1118 Point Pelee Drive\, Leamington\, ON\, N8H 3V4\, Canada
CATEGORIES:Family Fun,Outdoors
ATTACH;FMTTYPE=image/jpeg:https://www.visitwindsoressex.com/wp-content/uploads/2019/02/Events2019.Dark-Sky-Night-with-Astronomical-Society.jpg
END:VEVENT
BEGIN:VEVENT
DTSTART;TZID=America/Detroit:20260415T190000
DTEND;TZID=America/Detroit:20260415T210000
DTSTAMP:20260424T070735
CREATED:20260311T141802Z
LAST-MODIFIED:20260311T141802Z
UID:10175906-1776279600-1776286800@www.visitwindsoressex.com
SUMMARY:National Canadian Film Festival Movie Screening
DESCRIPTION:This year\, more than ever\, Canadians need community. This year’s theme\, ‘Let’s Dream Together’\, highlights how Canadian stories bring us together\, and as we try to figure out who we are and what we value\, it’s clear: We need to dream together like never before. \nThere will be popcorn available to make it a real movie going experience! \nMovie: The Grand Seduction \nRuntime: 113 minutes \nGenre: Drama\, Comedy \nA funny and fresh English-language adaptation of the 2003 Quebecois comedy La grande séduction\, this film tells the tale of a small fishing village in Newfoundland that must secure a new doctor in order to keep the community alive. \nWhen city doctor Paul Lewis (Kitsch) arrives for a court-ordered trial residence\, the townsfolk rally to charm and hoodwink him into staying. Under the guidance of an unemployed fisherman (Gleeson)\, they go to hilarious lengths to fabricate all the amenities of the big city and make it seem as though their sleepy town has everything Dr. Lewis could possibly want. Will the good doc fall for their tricks\, or will he see through them to the truth about small town life?
URL:https://www.visitwindsoressex.com/event/national-canadian-film-festival-movie-screening/
LOCATION:Point Pelee National Park\, 1118 Point Pelee Drive\, Leamington\, ON\, N8H 3V4\, Canada
CATEGORIES:Entertainment,Family Fun
ATTACH;FMTTYPE=image/png:https://www.visitwindsoressex.com/wp-content/uploads/2026/03/national-Canadian-Film-Festival-Screening.png
END:VEVENT
BEGIN:VEVENT
DTSTART;TZID=America/Detroit:20260411T140000
DTEND;TZID=America/Detroit:20260412T153000
DTSTAMP:20260424T070735
CREATED:20260126T141818Z
LAST-MODIFIED:20260126T141818Z
UID:10174843-1775916000-1776007800@www.visitwindsoressex.com
SUMMARY:Newsies Jr. presented by Windsor Light Music Theatre's Youth Program
DESCRIPTION:Windsor Light Music Theatre’s Youth Performance Program presents its Spring 2026 production of Newsies Jr.! \nThis energetic and inspiring musical follows a group of newsboys in early 20th-century New York City as they rally together to fight for fair treatment and a better future. Filled with powerful songs\, high-energy dance\, and unforgettable characters\, Newsies Jr. celebrates the strength of friendship\, the courage to stand up for what’s right\, and the hope that even the youngest voices can make a difference. \n​ \nWith its timeless story of resilience and determination\, Newsies Jr. is an exhilarating experience for audiences of all ages. \nDates and Times \nSaturday\, April 11\, 2026 at 2:00 pm \nSaturday\, April 11\, 2026 at 7:00 pm \nSunday\, April 12 at 2:00 pm \nVisit www.windsorlight.com/newsies-jr for more information!
URL:https://www.visitwindsoressex.com/event/newsies-jr-presented-by-windsor-light-music-theatres-youth-program/
LOCATION:École secondaire catholique l’Essor\, 13605 chemin St. Gregory\, Tecumseh\, ON\, Canada
CATEGORIES:Arts & Culture,Family Fun
ATTACH;FMTTYPE=image/jpeg:https://www.visitwindsoressex.com/wp-content/uploads/2026/01/612885348_1466618115473385_8814555986605208501_n-1.jpg
ORGANIZER;CN="Windsor Light Music Theatre":MAILTO:ticketmanager@windsorlight.com
END:VEVENT
BEGIN:VEVENT
DTSTART;TZID=America/Detroit:20260411T100000
DTEND;TZID=America/Detroit:20260411T120000
DTSTAMP:20260424T070735
CREATED:20250703T190141Z
LAST-MODIFIED:20260411T141955Z
UID:10171901-1775901600-1775908800@www.visitwindsoressex.com
SUMMARY:Family Concert: The Jungle Book
DESCRIPTION:Mowgli\, Baloo the Bear\, and more of Rudyard Kipling’s beloved characters from The Jungle Book come to life on stage in a charming children’s ballet\, featuring the dancers of Dance Barre Windsor. \nTimes:  10:00 AM – 11:00 AM or 11:30 AM – 12:30 PM \nAdults $10  /  Children $5\nGuarantee a seat by purchasing a Family Concert Package today: Buy package \nFREE Themed Craft \nJoin us before the concert for a free themed craft. Crafts are provided by Music for Young Children.
URL:https://www.visitwindsoressex.com/event/family-concert-the-jungle-book/
LOCATION:Capitol Theatre Windsor\, 121 University Ave West\, Windsor\, ON\, Canada
CATEGORIES:Arts & Culture,Family Fun
ATTACH;FMTTYPE=image/jpeg:https://www.visitwindsoressex.com/wp-content/uploads/2025/07/AV-image_Family4_2526.jpg
END:VEVENT
BEGIN:VEVENT
DTSTART;TZID=America/Detroit:20260410T180000
DTEND;TZID=America/Detroit:20260410T220000
DTSTAMP:20260424T070735
CREATED:20260302T135651Z
LAST-MODIFIED:20260302T135651Z
UID:10175859-1775844000-1775858400@www.visitwindsoressex.com
SUMMARY:Crossroads back at the Fort Fun Center
DESCRIPTION:Crossroads is excited to be back at the Fort Fun Centre. Bring the kids\, it’s a great family night!
URL:https://www.visitwindsoressex.com/event/crossroads-back-at-the-fort-fun-center/
LOCATION:The Fort Family Fun Center\, 689 Texas Road\, Amherstburg\, ON\, Canada
CATEGORIES:Entertainment,Family Fun
ATTACH;FMTTYPE=image/jpeg:https://www.visitwindsoressex.com/wp-content/uploads/2026/03/643828054_1524562343009242_4432555529401562750_n.jpg
END:VEVENT
BEGIN:VEVENT
DTSTART;VALUE=DATE:20260410
DTEND;VALUE=DATE:20260413
DTSTAMP:20260424T070735
CREATED:20251029T145211Z
LAST-MODIFIED:20251230T141400Z
UID:10173639-1775779200-1776038399@www.visitwindsoressex.com
SUMMARY:Matilda: The Musical
DESCRIPTION:Showtimes:  \n\nFriday April 10th\, 7:30pm\nSaturday April 11th\, 2:00pm and 7:30pm\nSunday April 12th 2:00pm\n\nTickets:\nAdults: $30+ taxes & fees\nStudents/Youth: $20+taxes & fees \nDebit cards cannot be used for online payment. Actual Visa/Mastercard only. No AMEX \nNO REFUNDS OR EXCHANGES ON TICKETS\nALL SALES ARE FINAL \nBalcony and Box Seats not wheelchair or walker accessible\nCall Box Office 519-252-6579 to reserve accessible seating located on Orchestra Level \nWe are not affiliated with any parking garages near the theatre \n 
URL:https://www.visitwindsoressex.com/event/matilda-the-musical/
LOCATION:Chrysler Theatre\, 201 Riverside Dr. W\, Windsor\, ON\, Canada
CATEGORIES:Arts & Culture,Family Fun
ATTACH;FMTTYPE=image/jpeg:https://www.visitwindsoressex.com/wp-content/uploads/2025/10/matilda-the-musical.jpg
GEO:42.3187501;-83.0420112
X-APPLE-STRUCTURED-LOCATION;VALUE=URI;X-ADDRESS=Chrysler Theatre 201 Riverside Dr. W Windsor ON Canada;X-APPLE-RADIUS=500;X-TITLE=201 Riverside Dr. W:geo:-83.0420112,42.3187501
END:VEVENT
BEGIN:VEVENT
DTSTART;VALUE=DATE:20260407
DTEND;VALUE=DATE:20260414
DTSTAMP:20260424T070735
CREATED:20260318T123944Z
LAST-MODIFIED:20260410T162505Z
UID:10175946-1775520000-1776124799@www.visitwindsoressex.com
SUMMARY:Jack Miner National Wildlife Week
DESCRIPTION:Come Experience National Wildlife Week at Jack Miner Bird Sanctuary! \n\nApril 7-10\, 10:00am – 3:00pm Events:\nExpect Tours\, Crafts\, Museum & House Tours and Kids’ Activities! \nJack Miner’s Birthday on April 10th: Enjoy a birthday treat by the campfire in celebration of Uncle Jack and his legacy of conservation! Treats served all day! \n\nApril 11\, 10:00am – 4:00pm Events:\nExpect an Artisan Market\, Outdoor Education\, Tours of Jack Miner\, Kids’ Activities\, Trolley Rides\, Banding and Retriever Club Demos and The Sportsmen’s Yard Sale as well as Canadian Raptor Conservancy Shows. \n\nApril 12\, 10:00am – 4:00pm Events:\nExpect an Artisan Market\, Outdoor Education\, Tours of Jack Miner\, Kids’ Activities\, Trolley Rides\, Banding Demos\, Yard Games and Scavenger Hunts!
URL:https://www.visitwindsoressex.com/event/jack-miner-national-wildlife-week/
LOCATION:Jack Miner Bird Sanctuary\, 360 Road 3 W.\, Kingsville\, Ontario\, N9Y 2E5\, Canada
CATEGORIES:Family Fun,Outdoors
ATTACH;FMTTYPE=image/jpeg:https://www.visitwindsoressex.com/wp-content/uploads/2026/03/2026-national-wildlife-week-poster.jpg
GEO:42.0656399;-82.751892
X-APPLE-STRUCTURED-LOCATION;VALUE=URI;X-ADDRESS=Jack Miner Bird Sanctuary 360 Road 3 W. Kingsville Ontario N9Y 2E5 Canada;X-APPLE-RADIUS=500;X-TITLE=360 Road 3 W.:geo:-82.751892,42.0656399
END:VEVENT
BEGIN:VEVENT
DTSTART;VALUE=DATE:20260328
DTEND;VALUE=DATE:20260329
DTSTAMP:20260424T070735
CREATED:20251218T134511Z
LAST-MODIFIED:20251230T141313Z
UID:10174089-1774656000-1774742399@www.visitwindsoressex.com
SUMMARY:Mary Poppins Jr.
DESCRIPTION:Come experience Mary Poppins Jr. live at the Chrysler Theatre! \nTickets: \nBoxes: $50+ taxes & fees\nRows A-X (mainfloor): $20+ taxes & fees \nWheelchair Seating/Restricted Mobility\nPlease advise the box office staff of your accessibility needs when booking tickets. The Balcony and Box Seats are not Wheelchair or Walker accessible \nThe Chrysler Theatre Intermission Cafe offers soft drinks\, spirits\, wine\, beer and snacks \nWe are not affiliated with any parking garages near the theatre \nShow times at 2:00pm and 7:00pm
URL:https://www.visitwindsoressex.com/event/mary-poppins-jr/
LOCATION:Chrysler Theatre\, 201 Riverside Dr. W\, Windsor\, ON\, Canada
CATEGORIES:Arts & Culture,Family Fun
ATTACH;FMTTYPE=image/png:https://www.visitwindsoressex.com/wp-content/uploads/2025/12/Mary-Poppins-Jr.png
GEO:42.3187501;-83.0420112
X-APPLE-STRUCTURED-LOCATION;VALUE=URI;X-ADDRESS=Chrysler Theatre 201 Riverside Dr. W Windsor ON Canada;X-APPLE-RADIUS=500;X-TITLE=201 Riverside Dr. W:geo:-83.0420112,42.3187501
END:VEVENT
BEGIN:VEVENT
DTSTART;TZID=America/Detroit:20260327T190000
DTEND;TZID=America/Detroit:20260327T220000
DTSTAMP:20260424T070735
CREATED:20260109T201216Z
LAST-MODIFIED:20260211T145226Z
UID:10174611-1774638000-1774648800@www.visitwindsoressex.com
SUMMARY:Line Dancing at The Fort
DESCRIPTION:Line Dancing Night at The Fort! \nGrab your boots and round up your friends — Line Dancing is BACK at The Fort! Whether you’re a seasoned dancer or have two left feet\, this is a fun\, welcoming night you won’t want to miss. \nWhat to expect: \n-A high-energy\, fun atmosphere\n-Great music\, cold drinks\, and lots of laughs\n-No partner needed — just show up ready to dance! \nIf you’ve been to one of our past line dancing nights\, you already know — these events are always a blast and fill up fast!
URL:https://www.visitwindsoressex.com/event/line-dancing-at-the-fort/2026-03-27/
LOCATION:The Fort Family Fun Centre\, 689 Texas Rd.\, Amherstburg\, ON\, N9V 3R3\, Canada
CATEGORIES:Entertainment,Family Fun
ATTACH;FMTTYPE=image/jpeg:https://www.visitwindsoressex.com/wp-content/uploads/2026/01/Line-Dancing-at-the-fort.jpg
END:VEVENT
END:VCALENDAR